Workbook

Sheet Etanol Milho
E1: área plantada = | F1: 476141 | G1: ha | L1: Etapa 1 | P1: Etapa 2 | W1: ETANOL DE MILHO | RETORNO FINANCEIRO REVISADO
E2: Moagem = | F2: =+F1*5-1 -> 2380704 | G2: 0.14 | H2: =+F2/360 -> 6613.0667 | I2: =+G2 -> 0.14 | K2: Amido | L2: + | M2: Água | N2: -----> | O2: Glucose | P2: -----> | Q2: Álcool | R2: + | S2: Gás Carbônico | W2: Modelo consolidado em uma única aba. Valores financeiros em US$ milhões. Fluxos anuais no fim de cada ano. Balanço de massa e regra de MDO preservados.
K3: C6H10O5 | L3: + | M3: H2O | N3: -----> | O3: C6H12O6 | P3: -----> | Q3: 2 H3C-CH2-OH | R3: + | S3: 2 CO2 | W3: Cenário sem financiamento: 100% capital próprio, sem juros e distribuição integral do caixa disponível. ROE não representa cenário alavancado.
K4: 162 | L4: + | M4: 18 | N4: -----> | O4: =+M4+K4 -> 180 | P4: -----> | Q4: 92 | R4: + | S4: =+O4-Q4 -> 88
D5: Umidade = | E5: =G2 -> 0.14 | K5: =+K7 -> 1474131.9 | L5: + | M5: =+K5*M4/K4 -> 163792.44 | N5: -----> | O5: =+K5*O4/K4 -> 1637924.4 | P5: -----> | Q5: =+O5*Q4/O4 -> 837161.34 | R5: + | S5: =+O5-Q5 -> 800763.02 | W5: Investimento inicial | AA5: ='Etanol Milho'!F37 -> 350 | AB5: Vínculo automático a F37; editar o investimento na origem (US$ milhões).
W6: Resultado operacional anual | AA6: ='Etanol Milho'!F36 -> 72.426788 | AB6: Vínculo automático a F36; resultado antes de depreciação, juros e impostos (US$ milhões).
D7: Amido = | E7: =72%*(1-$E$5) -> 0.6192 | H7: =+E7*F2 -> 1474131.9 | I7: t base seca | J7: ´------> | K7: =+H7 -> 1474131.9 | L7: + | M7: =+K7*M5/K5 -> 163792.44 | N7: -----> | O7: =+K7*O5/K5 -> 1637924.4 | P7: -----> | Q7: =Q5/0.811/0.96 -> 1075268.9 | R7: + | S7: =+S5 -> 800763.02 | W7: Imposto sobre lucro | AA7: ='Etanol Milho'!F47/100 -> 0.34 | AB7: Vínculo a F47; alíquota hipotética, sem compensação de prejuízos.
W8: Vida depreciável | AA8: 15 | AB8: anos; depreciação linear, valor contábil residual zero
I9: Rendimento | J9: ´------> | K9: 0.98 | O9: =K9-5% -> 0.93 | Q9: =+O9 -> 0.93 | S9: 0.02 | W9: Taxa de desconto | AA9: 0.1 | AB9: 10% ilustrativo editável; mesma moeda e base dos fluxos
K10: =+K9*K7 -> 1444649.3 | O10: =+K10*O7/K7 -> 1605165.9 | Q10: =Q9*Q7 -> 1000000.1 | S10: =+S9*S7 -> 16015.26 | W10: Capital de giro inicial | AA10: =AA64 -> 76.245403 | AB10: Calculado pelo ciclo operacional abaixo; recuperação no ano 20
D11: Casca = | E11: =10.7%*(1-$E$5) -> 0.09202 | W11: Reinvestimento anual | AA11: =AA5*AA66 -> 3.5 | AB11: Reposição capitalizável; hipótese exploratória de 1% do CAPEX ao ano; validar pelo plano de ativos
D12: Proteina = | E12: =8.3%*(1-$E$5) -> 0.07138 | F12: =+SUM(E11:E14)*F2 -> 517993.58 | G12: t base seca | L12: DDGS | M12: =+F12/O12 -> 588629.06 | N12: t @ | O12: 0.88 | W12: Valor de venda final | AA12: 0 | AB12: US$ milhões; tributação simplificada sobre ganho contábil no ano 20
D13: Germe = | E13: =4.7%*(1-$E$5) -> 0.04042
D14: Outros = | E14: =100%-SUM(E5:E13,E15) -> 0.01376 | L14: (Distillers Dried Grains with Solubles)
D15: Óleo = | E15: =2.7%*(1-$E$5) -> 0.02322 | G15: =+E15*F2 -> 55279.947 | H15: t | W15: TIR do projeto | AA15: =IFERROR(IRR(AH30:AH50),"Sem TIR") -> 0.10890922 | AC15: Fluxo do projeto = EBIT − imposto operacional + depreciação − reinvestimentos − variação de capital de giro + venda final líquida de imposto. Sem dívida: lucro líquido = NOPAT e fluxo ao acionista = fluxo do projeto.
W16: VPL do projeto | AA16: =NPV($AA$9,AH31:AH50)+AH30 -> 26.86003
C17: Dólar = | D17: 5 | E17: R$/USD | H17: Milho | I17: = | J17: 65 | K17: R$/saca | W17: Payback simples (anos) | AA17: =IF(COUNT(AR31:AR50)=0,"Não recupera em 20 anos",SUM(AR31:AR50)) -> 8.1162095
H18: Milho | I18: = | J18: =+J17/60/D17*1000 -> 216.66667 | K18: US$/t | L18: ´------> | M18: =+J18*F2/1000000 -> 515.8192 | N18: MUS$/ano | W18: Payback descontado (anos) | AA18: =IF(COUNT(AS31:AS50)=0,"Não recupera em 20 anos",SUM(AS31:AS50)) -> 17.837898
C19: Preço de Venda ESALQ = | D19: 2.69 | E19: R$/L | F19: =+M20 -> 538.00003 | G19: MUS$/ano | H19: Óleo | I19: = | J19: =+J18*4 -> 866.66667 | K19: US$/t | L19: ´------> | M19: =+J19*G15/1000000 -> 47.909287 | N19: MUS$/ano | P19: =+M19/SUM($M$19:$M$22) -> 0.067114318 | W19: Retorno operacional / CAPEX | AA19: =IF(AA5>0,AA6/AA5,"Não aplicável") -> 0.20693368 | AC19: ROCE e ROIC usam ativo fixo líquido contábil + capital de giro médio. ROE usa patrimônio médio, igual ao capital empregado neste cenário sem dívida e com distribuição integral. Após depreciação total, denominador zero gera “Não aplicável”. Reposições são capitalizadas e depreciadas a partir do ano seguinte, na mesma vida útil; sem baixas antecipadas de ativos substituídos.
C20: Custo Operacional = | D20: =+D19-D21 -> 0.628 | E20: R$/L | F20: =+D20*Q10/1000/D17 -> 125.60001 | G20: MUS$/ano | H20: Álcool | I20: = | J20: =+D19*1000/D17 -> 538 | K20: US$/m3 | L20: ´------> | M20: =+J20*Q10/1000000 -> 538.00003 | N20: MUS$/ano | P20: =+M20/SUM($M$19:$M$22) -> 0.753664 | W20: ROE ano 1 (capital próprio médio) | AA20: =AP31 -> 0.077827153
C21: Preço de Venta - Custo Operacional = | D21: 2.062 | E21: R$/L | H21: DDGS | I21: = | J21: =J18 -> 216.66667 | K21: US$/t | L21: ´------> | M21: =+J21*M12/1000000 -> 127.5363 | N21: MUS$/ano | P21: =+M21/SUM($M$19:$M$22) -> 0.1786608 | W21: ROCE ano 1 (capital empregado médio) | AA21: =AQ31 -> 0.11791993
H22: CO2 | I22: = | J22: 25 | K22: US$/t | L22: ´------> | M22: =+J22*S10/1000000 -> 0.40038151 | N22: MUS$/ano | P22: =+M22/SUM($M$19:$M$22) -> 0.00056087939 | W22: ROIC ano 1 (capital investido médio) | AA22: =AT31 -> 0.077827153
C23: TIR = | D23: ='Etanol Milho'!AA15 -> 0.10890922
W24: Azul / amarelo = premissas editáveis. Imposto é hipótese matemática do arquivo, sem validação fiscal. Fluxos em dólares constantes; taxa real em USD. Sem construção ou rampa; tributação simplificada.
E25: Milho = | F25: =+(M18-M21-M22-M19) -> 339.97323 | G25: MUS$/ano | H25: =+F25/$F$35 -> 0.73022503 | W25: Payback usa primeira recuperação do caixa acumulado, com interpolação linear. VPL e TIR usam 20 fluxos anuais mais investimento no ano zero.
E26: Energia Termica = | F26: 7 | G26: MUS$/ano | H26: =+F26/$F$35 -> 0.015035228 | I26: =+SUM(H25:H27) -> 0.75578492 | J26: (Milho + Energia) | W26: Não recupera em 20 anos = ausência de cruzamento no horizonte. A TIR e o VPL prevalecem quando há desembolsos posteriores ao primeiro retorno.
E27: Energia Eletrica = | F27: =+F26*0.7 -> 4.9 | G27: MUS$/ano | H27: =+F27/$F$35 -> 0.01052466
E28: MDO = | F28: =+F20-F26-F27-F29-F30-F33-F31-F32 -> 25.892957 | G28: MUS$/ano | H28: =+F28/$F$35 -> 0.055615217 | I28: =+SUM(H25:H28) -> 0.81140014 | J28: (Milho + Energia + MDO) | O28: 500 | P28: funcionários
E29: Produto Quimico e Enzimas = | F29: 2 | G29: MUS$/ano | H29: =+F29/$F$35 -> 0.0042957795 | O29: =F28*1000000/O28/13000 -> 3.9835318 | P29: kUSD/funcionário | W29: Ano | X29: Resultado operacional | Y29: Depreciação | Z29: EBIT | AA29: Imposto operacional | AB29: NOPAT / lucro líquido | AC29: Deprec. adicionada | AD29: Reinvestimento | AE29: Δ capital de giro | AF29: CAPEX inicial | AG29: Venda final líquida | AH29: FCFF / FCFE | AI29: Caixa acumulado | AJ29: Fluxo descontado | AK29: Acum. descontado | AL29: Ativo fixo inicial | AM29: Ativo fixo final | AN29: Capital inicial | AO29: Capital final | AP29: ROE | AQ29: ROCE | AR29: Payback simples | AS29: Payback descontado | AT29: ROIC | AU29: Retorno / CAPEX inicial
E30: Tratamento Efluente e Água = | F30: =+F29*2 -> 4 | G30: MUS$/ano | H30: =+F30/$F$35 -> 0.0085915591 | O30: =O29*D17 -> 19.917659 | P30: kR$/funcionário (já com custo encargos) | W30: 0 | X30: 0 | Y30: 0 | Z30: 0 | AA30: 0 | AB30: 0 | AC30: 0 | AD30: 0 | AE30: =$AA$10 -> 76.245403 | AF30: =$AA$5 -> 350 | AG30: 0 | AH30: =-AE30-AF30 -> -426.2454 | AI30: =AH30 -> -426.2454 | AJ30: =AH30 -> -426.2454 | AK30: =AJ30 -> -426.2454 | AL30: 0 | AM30: 0 | AN30: 0 | AO30: 0
B31: 50 | F31: =+B31*F1/1000000 -> 23.80705 | G31: MUS$/ano | H31: =+F31/$F$35 -> 0.051134919 | O31: =O30/2 -> 9.9588295 | P31: kR$/funcionário (salário líquido) | W31: 1 | X31: =$AA$6 -> 72.426788 | Y31: =IF(W31<=$AA$8,$AA$5/$AA$8,0)+$AA$11/$AA$8*MIN(W31-1,$AA$8) -> 23.333333 | Z31: =X31-Y31 -> 49.093455 | AA31: =MAX(Z31,0)*$AA$7 -> 16.691775 | AB31: =Z31-AA31 -> 32.40168 | AC31: =Y31 -> 23.333333 | AD31: =$AA$11 -> 3.5 | AE31: =IF(W31=20,-$AA$10,0) -> 0 | AF31: =0 -> 0 | AG31: =IF(W31=20,$AA$12-MAX($AA$12-AM31,0)*$AA$7,0) -> 0 | AH31: =AB31+AC31-AD31-AE31-AF31+AG31 -> 52.235014 | AI31: =AI30+AH31 -> -374.01039 | AJ31: =AH31/(1+$AA$9)^W31 -> 47.486376 | AK31: =AK30+AJ31 -> -378.75903 | AL31: =$AA$5 -> 350 | AM31: =MAX(AL31+AD31-Y31,0) -> 330.16667 | AN31: =AL31+$AA$10 -> 426.2454 | AO31: =AM31+$AA$10 -> 406.41207 | AP31: =IF(AVERAGE(AN31:AO31)>0,AB31/AVERAGE(AN31:AO31),"Não aplicável") -> 0.077827153 | AQ31: =IF(AVERAGE(AN31:AO31)>0,Z31/AVERAGE(AN31:AO31),"Não aplicável") -> 0.11791993 | AR31: =IF(AND(COUNT($AR$30:AR30)=0,AI30<0,AI31>=0,AH31>0),W31-1-AI30/AH31,"") | AS31: =IF(AND(COUNT($AS$30:AS30)=0,AK30<0,AK31>=0,AJ31>0),W31-1-AK30/AJ31,"") | AT31: =IF(AVERAGE(AN31:AO31)>0,AB31/AVERAGE(AN31:AO31),"Não aplicável") -> 0.077827153 | AU31: =IF($AA$5>0,X31/$AA$5,"Não aplicável") -> 0.20693368
E32: Custo Fixo = | F32: 40.5 | G32: MUS$/ano | H32: =+F32/$F$35 -> 0.086989536 | W32: 2 | X32: =$AA$6 -> 72.426788 | Y32: =IF(W32<=$AA$8,$AA$5/$AA$8,0)+$AA$11/$AA$8*MIN(W32-1,$AA$8) -> 23.566667 | Z32: =X32-Y32 -> 48.860122 | AA32: =MAX(Z32,0)*$AA$7 -> 16.612441 | AB32: =Z32-AA32 -> 32.24768 | AC32: =Y32 -> 23.566667 | AD32: =$AA$11 -> 3.5 | AE32: =IF(W32=20,-$AA$10,0) -> 0 | AF32: =0 -> 0 | AG32: =IF(W32=20,$AA$12-MAX($AA$12-AM32,0)*$AA$7,0) -> 0 | AH32: =AB32+AC32-AD32-AE32-AF32+AG32 -> 52.314347 | AI32: =AI31+AH32 -> -321.69604 | AJ32: =AH32/(1+$AA$9)^W32 -> 43.234997 | AK32: =AK31+AJ32 -> -335.52403 | AL32: =AM31 -> 330.16667 | AM32: =MAX(AL32+AD32-Y32,0) -> 310.1 | AN32: =AL32+$AA$10 -> 406.41207 | AO32: =AM32+$AA$10 -> 386.3454 | AP32: =IF(AVERAGE(AN32:AO32)>0,AB32/AVERAGE(AN32:AO32),"Não aplicável") -> 0.081355727 | AQ32: =IF(AVERAGE(AN32:AO32)>0,Z32/AVERAGE(AN32:AO32),"Não aplicável") -> 0.12326625 | AR32: =IF(AND(COUNT($AR$30:AR31)=0,AI31<0,AI32>=0,AH32>0),W32-1-AI31/AH32,"") | AS32: =IF(AND(COUNT($AS$30:AS31)=0,AK31<0,AK32>=0,AJ32>0),W32-1-AK31/AJ32,"") | AT32: =IF(AVERAGE(AN32:AO32)>0,AB32/AVERAGE(AN32:AO32),"Não aplicável") -> 0.081355727 | AU32: =IF($AA$5>0,X32/$AA$5,"Não aplicável") -> 0.20693368
E33: Manutenção = | F33: =F37/20 -> 17.5 | G33: MUS$/ano | H33: =+F33/$F$35 -> 0.037588071 | W33: 3 | X33: =$AA$6 -> 72.426788 | Y33: =IF(W33<=$AA$8,$AA$5/$AA$8,0)+$AA$11/$AA$8*MIN(W33-1,$AA$8) -> 23.8 | Z33: =X33-Y33 -> 48.626788 | AA33: =MAX(Z33,0)*$AA$7 -> 16.533108 | AB33: =Z33-AA33 -> 32.09368 | AC33: =Y33 -> 23.8 | AD33: =$AA$11 -> 3.5 | AE33: =IF(W33=20,-$AA$10,0) -> 0 | AF33: =0 -> 0 | AG33: =IF(W33=20,$AA$12-MAX($AA$12-AM33,0)*$AA$7,0) -> 0 | AH33: =AB33+AC33-AD33-AE33-AF33+AG33 -> 52.39368 | AI33: =AI32+AH33 -> -269.30236 | AJ33: =AH33/(1+$AA$9)^W33 -> 39.364147 | AK33: =AK32+AJ33 -> -296.15988 | AL33: =AM32 -> 310.1 | AM33: =MAX(AL33+AD33-Y33,0) -> 289.8 | AN33: =AL33+$AA$10 -> 386.3454 | AO33: =AM33+$AA$10 -> 366.0454 | AP33: =IF(AVERAGE(AN33:AO33)>0,AB33/AVERAGE(AN33:AO33),"Não aplicável") -> 0.085311197 | AQ33: =IF(AVERAGE(AN33:AO33)>0,Z33/AVERAGE(AN33:AO33),"Não aplicável") -> 0.12925939 | AR33: =IF(AND(COUNT($AR$30:AR32)=0,AI32<0,AI33>=0,AH33>0),W33-1-AI32/AH33,"") | AS33: =IF(AND(COUNT($AS$30:AS32)=0,AK32<0,AK33>=0,AJ33>0),W33-1-AK32/AJ33,"") | AT33: =IF(AVERAGE(AN33:AO33)>0,AB33/AVERAGE(AN33:AO33),"Não aplicável") -> 0.085311197 | AU33: =IF($AA$5>0,X33/$AA$5,"Não aplicável") -> 0.20693368
W34: 4 | X34: =$AA$6 -> 72.426788 | Y34: =IF(W34<=$AA$8,$AA$5/$AA$8,0)+$AA$11/$AA$8*MIN(W34-1,$AA$8) -> 24.033333 | Z34: =X34-Y34 -> 48.393455 | AA34: =MAX(Z34,0)*$AA$7 -> 16.453775 | AB34: =Z34-AA34 -> 31.93968 | AC34: =Y34 -> 24.033333 | AD34: =$AA$11 -> 3.5 | AE34: =IF(W34=20,-$AA$10,0) -> 0 | AF34: =0 -> 0 | AG34: =IF(W34=20,$AA$12-MAX($AA$12-AM34,0)*$AA$7,0) -> 0 | AH34: =AB34+AC34-AD34-AE34-AF34+AG34 -> 52.473014 | AI34: =AI33+AH34 -> -216.82935 | AJ34: =AH34/(1+$AA$9)^W34 -> 35.839774 | AK34: =AK33+AJ34 -> -260.32011 | AL34: =AM33 -> 289.8 | AM34: =MAX(AL34+AD34-Y34,0) -> 269.26667 | AN34: =AL34+$AA$10 -> 366.0454 | AO34: =AM34+$AA$10 -> 345.51207 | AP34: =IF(AVERAGE(AN34:AO34)>0,AB34/AVERAGE(AN34:AO34),"Não aplicável") -> 0.089774 | AQ34: =IF(AVERAGE(AN34:AO34)>0,Z34/AVERAGE(AN34:AO34),"Não aplicável") -> 0.13602121 | AR34: =IF(AND(COUNT($AR$30:AR33)=0,AI33<0,AI34>=0,AH34>0),W34-1-AI33/AH34,"") | AS34: =IF(AND(COUNT($AS$30:AS33)=0,AK33<0,AK34>=0,AJ34>0),W34-1-AK33/AJ34,"") | AT34: =IF(AVERAGE(AN34:AO34)>0,AB34/AVERAGE(AN34:AO34),"Não aplicável") -> 0.089774 | AU34: =IF($AA$5>0,X34/$AA$5,"Não aplicável") -> 0.20693368
B35: Custo Total= | F35: =+SUM(F25:F33) -> 465.57324 | G35: MUS$/ano | W35: 5 | X35: =$AA$6 -> 72.426788 | Y35: =IF(W35<=$AA$8,$AA$5/$AA$8,0)+$AA$11/$AA$8*MIN(W35-1,$AA$8) -> 24.266667 | Z35: =X35-Y35 -> 48.160122 | AA35: =MAX(Z35,0)*$AA$7 -> 16.374441 | AB35: =Z35-AA35 -> 31.78568 | AC35: =Y35 -> 24.266667 | AD35: =$AA$11 -> 3.5 | AE35: =IF(W35=20,-$AA$10,0) -> 0 | AF35: =0 -> 0 | AG35: =IF(W35=20,$AA$12-MAX($AA$12-AM35,0)*$AA$7,0) -> 0 | AH35: =AB35+AC35-AD35-AE35-AF35+AG35 -> 52.552347 | AI35: =AI34+AH35 -> -164.277 | AJ35: =AH35/(1+$AA$9)^W35 -> 32.630873 | AK35: =AK34+AJ35 -> -227.68923 | AL35: =AM34 -> 269.26667 | AM35: =MAX(AL35+AD35-Y35,0) -> 248.5 | AN35: =AL35+$AA$10 -> 345.51207 | AO35: =AM35+$AA$10 -> 324.7454 | AP35: =IF(AVERAGE(AN35:AO35)>0,AB35/AVERAGE(AN35:AO35),"Não aplicável") -> 0.09484618 | AQ35: =IF(AVERAGE(AN35:AO35)>0,Z35/AVERAGE(AN35:AO35),"Não aplicável") -> 0.14370633 | AR35: =IF(AND(COUNT($AR$30:AR34)=0,AI34<0,AI35>=0,AH35>0),W35-1-AI34/AH35,"") | AS35: =IF(AND(COUNT($AS$30:AS34)=0,AK34<0,AK35>=0,AJ35>0),W35-1-AK34/AJ35,"") | AT35: =IF(AVERAGE(AN35:AO35)>0,AB35/AVERAGE(AN35:AO35),"Não aplicável") -> 0.09484618 | AU35: =IF($AA$5>0,X35/$AA$5,"Não aplicável") -> 0.20693368
A36: Resultado operacional antes de depreciação = | F36: =F19-F35 -> 72.426788 | G36: MUS$/ano | W36: 6 | X36: =$AA$6 -> 72.426788 | Y36: =IF(W36<=$AA$8,$AA$5/$AA$8,0)+$AA$11/$AA$8*MIN(W36-1,$AA$8) -> 24.5 | Z36: =X36-Y36 -> 47.926788 | AA36: =MAX(Z36,0)*$AA$7 -> 16.295108 | AB36: =Z36-AA36 -> 31.63168 | AC36: =Y36 -> 24.5 | AD36: =$AA$11 -> 3.5 | AE36: =IF(W36=20,-$AA$10,0) -> 0 | AF36: =0 -> 0 | AG36: =IF(W36=20,$AA$12-MAX($AA$12-AM36,0)*$AA$7,0) -> 0 | AH36: =AB36+AC36-AD36-AE36-AF36+AG36 -> 52.63168 | AI36: =AI35+AH36 -> -111.64532 | AJ36: =AH36/(1+$AA$9)^W36 -> 29.709211 | AK36: =AK35+AJ36 -> -197.98002 | AL36: =AM35 -> 248.5 | AM36: =MAX(AL36+AD36-Y36,0) -> 227.5 | AN36: =AL36+$AA$10 -> 324.7454 | AO36: =AM36+$AA$10 -> 303.7454 | AP36: =IF(AVERAGE(AN36:AO36)>0,AB36/AVERAGE(AN36:AO36),"Não aplicável") -> 0.10065917 | AQ36: =IF(AVERAGE(AN36:AO36)>0,Z36/AVERAGE(AN36:AO36),"Não aplicável") -> 0.15251389 | AR36: =IF(AND(COUNT($AR$30:AR35)=0,AI35<0,AI36>=0,AH36>0),W36-1-AI35/AH36,"") | AS36: =IF(AND(COUNT($AS$30:AS35)=0,AK35<0,AK36>=0,AJ36>0),W36-1-AK35/AJ36,"") | AT36: =IF(AVERAGE(AN36:AO36)>0,AB36/AVERAGE(AN36:AO36),"Não aplicável") -> 0.10065917 | AU36: =IF($AA$5>0,X36/$AA$5,"Não aplicável") -> 0.20693368
B37: Investimento = | F37: 350 | G37: MUS$ | W37: 7 | X37: =$AA$6 -> 72.426788 | Y37: =IF(W37<=$AA$8,$AA$5/$AA$8,0)+$AA$11/$AA$8*MIN(W37-1,$AA$8) -> 24.733333 | Z37: =X37-Y37 -> 47.693455 | AA37: =MAX(Z37,0)*$AA$7 -> 16.215775 | AB37: =Z37-AA37 -> 31.47768 | AC37: =Y37 -> 24.733333 | AD37: =$AA$11 -> 3.5 | AE37: =IF(W37=20,-$AA$10,0) -> 0 | AF37: =0 -> 0 | AG37: =IF(W37=20,$AA$12-MAX($AA$12-AM37,0)*$AA$7,0) -> 0 | AH37: =AB37+AC37-AD37-AE37-AF37+AG37 -> 52.711014 | AI37: =AI36+AH37 -> -58.934307 | AJ37: =AH37/(1+$AA$9)^W37 -> 27.049085 | AK37: =AK36+AJ37 -> -170.93094 | AL37: =AM36 -> 227.5 | AM37: =MAX(AL37+AD37-Y37,0) -> 206.26667 | AN37: =AL37+$AA$10 -> 303.7454 | AO37: =AM37+$AA$10 -> 282.51207 | AP37: =IF(AVERAGE(AN37:AO37)>0,AB37/AVERAGE(AN37:AO37),"Não aplicável") -> 0.10738517 | AQ37: =IF(AVERAGE(AN37:AO37)>0,Z37/AVERAGE(AN37:AO37),"Não aplicável") -> 0.16270481 | AR37: =IF(AND(COUNT($AR$30:AR36)=0,AI36<0,AI37>=0,AH37>0),W37-1-AI36/AH37,"") | AS37: =IF(AND(COUNT($AS$30:AS36)=0,AK36<0,AK37>=0,AJ37>0),W37-1-AK36/AJ37,"") | AT37: =IF(AVERAGE(AN37:AO37)>0,AB37/AVERAGE(AN37:AO37),"Não aplicável") -> 0.10738517 | AU37: =IF($AA$5>0,X37/$AA$5,"Não aplicável") -> 0.20693368
B38: Custo Relativo = | F38: =F35/Q10*1000 -> 0.46557322 | G38: US$/l -------> | H38: =F38*D17 -> 2.3278661 | I38: R$/l | W38: 8 | X38: =$AA$6 -> 72.426788 | Y38: =IF(W38<=$AA$8,$AA$5/$AA$8,0)+$AA$11/$AA$8*MIN(W38-1,$AA$8) -> 24.966667 | Z38: =X38-Y38 -> 47.460122 | AA38: =MAX(Z38,0)*$AA$7 -> 16.136441 | AB38: =Z38-AA38 -> 31.32368 | AC38: =Y38 -> 24.966667 | AD38: =$AA$11 -> 3.5 | AE38: =IF(W38=20,-$AA$10,0) -> 0 | AF38: =0 -> 0 | AG38: =IF(W38=20,$AA$12-MAX($AA$12-AM38,0)*$AA$7,0) -> 0 | AH38: =AB38+AC38-AD38-AE38-AF38+AG38 -> 52.790347 | AI38: =AI37+AH38 -> -6.1439606 | AJ38: =AH38/(1+$AA$9)^W38 -> 24.627086 | AK38: =AK37+AJ38 -> -146.30385 | AL38: =AM37 -> 206.26667 | AM38: =MAX(AL38+AD38-Y38,0) -> 184.8 | AN38: =AL38+$AA$10 -> 282.51207 | AO38: =AM38+$AA$10 -> 261.0454 | AP38: =IF(AVERAGE(AN38:AO38)>0,AB38/AVERAGE(AN38:AO38),"Não aplicável") -> 0.11525435 | AQ38: =IF(AVERAGE(AN38:AO38)>0,Z38/AVERAGE(AN38:AO38),"Não aplicável") -> 0.1746278 | AR38: =IF(AND(COUNT($AR$30:AR37)=0,AI37<0,AI38>=0,AH38>0),W38-1-AI37/AH38,"") | AS38: =IF(AND(COUNT($AS$30:AS37)=0,AK37<0,AK38>=0,AJ38>0),W38-1-AK37/AJ38,"") | AT38: =IF(AVERAGE(AN38:AO38)>0,AB38/AVERAGE(AN38:AO38),"Não aplicável") -> 0.11525435 | AU38: =IF($AA$5>0,X38/$AA$5,"Não aplicável") -> 0.20693368
B39: Payback Simples = | F39: ='Etanol Milho'!AA17 -> 8.1162095 | G39: anos — fluxo após impostos | W39: 9 | X39: =$AA$6 -> 72.426788 | Y39: =IF(W39<=$AA$8,$AA$5/$AA$8,0)+$AA$11/$AA$8*MIN(W39-1,$AA$8) -> 25.2 | Z39: =X39-Y39 -> 47.226788 | AA39: =MAX(Z39,0)*$AA$7 -> 16.057108 | AB39: =Z39-AA39 -> 31.16968 | AC39: =Y39 -> 25.2 | AD39: =$AA$11 -> 3.5 | AE39: =IF(W39=20,-$AA$10,0) -> 0 | AF39: =0 -> 0 | AG39: =IF(W39=20,$AA$12-MAX($AA$12-AM39,0)*$AA$7,0) -> 0 | AH39: =AB39+AC39-AD39-AE39-AF39+AG39 -> 52.86968 | AI39: =AI38+AH39 -> 46.72572 | AJ39: =AH39/(1+$AA$9)^W39 -> 22.421905 | AK39: =AK38+AJ39 -> -123.88195 | AL39: =AM38 -> 184.8 | AM39: =MAX(AL39+AD39-Y39,0) -> 163.1 | AN39: =AL39+$AA$10 -> 261.0454 | AO39: =AM39+$AA$10 -> 239.3454 | AP39: =IF(AVERAGE(AN39:AO39)>0,AB39/AVERAGE(AN39:AO39),"Não aplicável") -> 0.12458135 | AQ39: =IF(AVERAGE(AN39:AO39)>0,Z39/AVERAGE(AN39:AO39),"Não aplicável") -> 0.18875962 | AR39: =IF(AND(COUNT($AR$30:AR38)=0,AI38<0,AI39>=0,AH39>0),W39-1-AI38/AH39,"") -> 8.1162095 | AS39: =IF(AND(COUNT($AS$30:AS38)=0,AK38<0,AK39>=0,AJ39>0),W39-1-AK38/AJ39,"") | AT39: =IF(AVERAGE(AN39:AO39)>0,AB39/AVERAGE(AN39:AO39),"Não aplicável") -> 0.12458135 | AU39: =IF($AA$5>0,X39/$AA$5,"Não aplicável") -> 0.20693368
B40: Payback Descontado = | F40: ='Etanol Milho'!AA18 -> 17.837898 | G40: anos — fluxo descontado à taxa de AA9 | W40: 10 | X40: =$AA$6 -> 72.426788 | Y40: =IF(W40<=$AA$8,$AA$5/$AA$8,0)+$AA$11/$AA$8*MIN(W40-1,$AA$8) -> 25.433333 | Z40: =X40-Y40 -> 46.993455 | AA40: =MAX(Z40,0)*$AA$7 -> 15.977775 | AB40: =Z40-AA40 -> 31.01568 | AC40: =Y40 -> 25.433333 | AD40: =$AA$11 -> 3.5 | AE40: =IF(W40=20,-$AA$10,0) -> 0 | AF40: =0 -> 0 | AG40: =IF(W40=20,$AA$12-MAX($AA$12-AM40,0)*$AA$7,0) -> 0 | AH40: =AB40+AC40-AD40-AE40-AF40+AG40 -> 52.949014 | AI40: =AI39+AH40 -> 99.674733 | AJ40: =AH40/(1+$AA$9)^W40 -> 20.414137 | AK40: =AK39+AJ40 -> -103.46781 | AL40: =AM39 -> 163.1 | AM40: =MAX(AL40+AD40-Y40,0) -> 141.16667 | AN40: =AL40+$AA$10 -> 239.3454 | AO40: =AM40+$AA$10 -> 217.41207 | AP40: =IF(AVERAGE(AN40:AO40)>0,AB40/AVERAGE(AN40:AO40),"Não aplicável") -> 0.13580809 | AQ40: =IF(AVERAGE(AN40:AO40)>0,Z40/AVERAGE(AN40:AO40),"Não aplicável") -> 0.20576984 | AR40: =IF(AND(COUNT($AR$30:AR39)=0,AI39<0,AI40>=0,AH40>0),W40-1-AI39/AH40,"") | AS40: =IF(AND(COUNT($AS$30:AS39)=0,AK39<0,AK40>=0,AJ40>0),W40-1-AK39/AJ40,"") | AT40: =IF(AVERAGE(AN40:AO40)>0,AB40/AVERAGE(AN40:AO40),"Não aplicável") -> 0.13580809 | AU40: =IF($AA$5>0,X40/$AA$5,"Não aplicável") -> 0.20693368
...

Sheet Planilha1
C4: Cana | G4: Milho
C5: =#REF! -> #REF! | D5: R$/t | G5: =+'Etanol Milho'!J18*'Etanol Milho'!D17 -> 1083.3333 | H5: R$/t
C6: =#REF! -> #REF! | D6: t/ano | G6: ='Etanol Milho'!F2 -> 2380704 | H6: t/ano
B7: Cana de Açúcar | C7: =C6*C5 -> #REF! | D7: R$/ano | F7: Milho | G7: =G6*G5 -> 2579096000 | H7: R$/ano
B8: Custos Operativos | C8: =#REF!*#REF!*1000000 -> #REF! | D8: R$/ano | F8: Custos Operativos | G8: ='Etanol Milho'!F20*#REF!*1000000 -> #REF! | H8: R$/ano
B10: Custos Totais | C10: =C8+C7 -> #REF! | D10: R$/ano | F10: Custos Totais | G10: =G8+G7 -> #REF! | H10: R$/ano
B11: Receitas Totais | C11: =(#REF!+#REF!)*#REF!*1000000 -> #REF! | D11: R$/ano | F11: Receitas Totais | G11: =('Etanol Milho'!M20+'Etanol Milho'!M21+'Etanol Milho'!M19+'Etanol Milho'!M22)*#REF!*1000000 -> #REF! | H11: R$/ano
C13: =C11-C10 -> #REF! | D13: R$/ano | G13: =G11-G10 -> #REF! | H13: R$/ano
C15: =C13/(#REF!*1000000) -> #REF! | D15: MUSD/ano | G15: =G13/(#REF!*1000000) -> #REF! | H15: USD/ano

Sheet Etanol
C2: 353000 | D2: t @ | E2: =+E5 -> 0.15 | P2: Sorbitol | Q2: 15000 | R2: t @ | S2: 0.7
P3: Dextrose | Q3: 5000 | R3: t @ | S3: 0.65
K4: Jarabe Comercial | L4: 145000 | M4: t @ | N4: =(+Q2*S2+Q3*S3+Q4*S4+Q5*S5)/L4 -> 0.80172414 | P4: Glucose | Q4: 120000 | R4: t @ | S4: 0.82
D5: Humidad | E5: 0.15 | P5: Maltose | Q5: =+L4-Q4-Q3-Q2 -> 5000 | R5: t @ | S5: 0.82
D6: Almidon | E6: =70%*(1-$E$5) -> 0.595 | H6: =+E6*C2 -> 210035 | I6: t base seca
D7: Casca | E7: =11.5%*(1-$E$5) -> 0.09775 | P7: Almidon Natural | Q7: 4300 | R7: t @ | S7: 0.88
D8: Proteina | E8: =8.3%*(1-$E$5) -> 0.07055 | K8: Almidon Comercial | L8: =(H6-+L4*N4)/N8 -> 106573.86 | M8: t @ | N8: 0.88
D9: Aceite | E9: =3.2%*(1-$E$5) -> 0.0272 | P9: Almidon Modificado | Q9: =+L8-Q7 -> 102273.86 | R9: t @ | S9: 0.88
D10: Germen | E10: =5.5%*(1-$E$5) -> 0.04675
D11: Otros | E11: =100%-SUM(E5:E10) -> 0.01275

Sheet Hoja2
